BEGIN:VCALENDAR
VERSION:2.0
PRODID:-//EWB - ECPv6.15.20//NONSGML v1.0//EN
CALSCALE:GREGORIAN
METHOD:PUBLISH
X-WR-CALNAME:EWB
X-ORIGINAL-URL:https://edwardbreitweiser.com
X-WR-CALDESC:Events for EWB
REFRESH-INTERVAL;VALUE=DURATION:PT1H
X-Robots-Tag:noindex
X-PUBLISHED-TTL:PT1H
BEGIN:VTIMEZONE
TZID:America/New_York
BEGIN:DAYLIGHT
TZOFFSETFROM:-0500
TZOFFSETTO:-0400
TZNAME:EDT
DTSTART:20240310T070000
END:DAYLIGHT
BEGIN:STANDARD
TZOFFSETFROM:-0400
TZOFFSETTO:-0500
TZNAME:EST
DTSTART:20241103T060000
END:STANDARD
BEGIN:DAYLIGHT
TZOFFSETFROM:-0500
TZOFFSETTO:-0400
TZNAME:EDT
DTSTART:20250309T070000
END:DAYLIGHT
BEGIN:STANDARD
TZOFFSETFROM:-0400
TZOFFSETTO:-0500
TZNAME:EST
DTSTART:20251102T060000
END:STANDARD
BEGIN:DAYLIGHT
TZOFFSETFROM:-0500
TZOFFSETTO:-0400
TZNAME:EDT
DTSTART:20260308T070000
END:DAYLIGHT
BEGIN:STANDARD
TZOFFSETFROM:-0400
TZOFFSETTO:-0500
TZNAME:EST
DTSTART:20261101T060000
END:STANDARD
END:VTIMEZONE
BEGIN:VEVENT
DTSTART;TZID=America/New_York:20250725T190000
DTEND;TZID=America/New_York:20250725T210000
DTSTAMP:20260423T210717
CREATED:20250724T041431Z
LAST-MODIFIED:20250724T041614Z
UID:286-1753470000-1753477200@edwardbreitweiser.com
SUMMARY:2025.07.25 - Common Sage (Madison\, WI)
DESCRIPTION:  \nFriday\, 7/25\n@commonsagearts in Madison\, WI \nI’ll be premiering “Pulse Canons”\, a new composition for clock pulses and oscillators\, in quad! Digital sounds in medieval forms in surround sound – don’t miss it! \nMy buddy @avoidancepolicy and I will be opening for @jeremyroyalblahblah during his US tour – always nice to see these guys!
URL:https://edwardbreitweiser.com/event/2025-07-25-common-sage-madison-wi/
LOCATION:Common Sage\, 934 Drake St.\, Madison\, WI\, United States
END:VEVENT
BEGIN:VEVENT
DTSTART;TZID=America/New_York:20250726T190000
DTEND;TZID=America/New_York:20250726T210000
DTSTAMP:20260423T210717
CREATED:20250724T041952Z
LAST-MODIFIED:20250724T041952Z
UID:293-1753556400-1753563600@edwardbreitweiser.com
SUMMARY:2025.07.26 - Reverberation Vinyl (Bloomington\, IL)
DESCRIPTION:Saturday\, 7/26\n@reverberationvinyl in Bloomington\, IL \n@_slow_dog__ will debut some seriously solid new tunes on a ssssstttttaaaaaccccckkkkkkeeeeeddddd bill of Midwestern heavy hitters. Furious Neighbor (of Rapider Than Horsepower\, Racebannon\, etc)\, Brutal Shift (@alexikcawon) from @breachingstaticmedia\, and Yea Big (@stefenrobinson ) will change you for the better. \nBecome the person you always knew you could be – see you out there! ❤️
URL:https://edwardbreitweiser.com/event/2025-07-26-reverberation-vinyl-bloomington-il/
LOCATION:Reverberation Vinyl\, 1302 N Main St\, Bloomington\, IL\, United States
END:VEVENT
END:VCALENDAR