BEGIN:VCALENDAR
VERSION:2.0
PRODID:-//EWB - ECPv6.15.20//NONSGML v1.0//EN
CALSCALE:GREGORIAN
METHOD:PUBLISH
X-WR-CALNAME:EWB
X-ORIGINAL-URL:https://edwardbreitweiser.com
X-WR-CALDESC:Events for EWB
REFRESH-INTERVAL;VALUE=DURATION:PT1H
X-Robots-Tag:noindex
X-PUBLISHED-TTL:PT1H
BEGIN:VTIMEZONE
TZID:America/New_York
BEGIN:DAYLIGHT
TZOFFSETFROM:-0500
TZOFFSETTO:-0400
TZNAME:EDT
DTSTART:20200308T070000
END:DAYLIGHT
BEGIN:STANDARD
TZOFFSETFROM:-0400
TZOFFSETTO:-0500
TZNAME:EST
DTSTART:20201101T060000
END:STANDARD
BEGIN:DAYLIGHT
TZOFFSETFROM:-0500
TZOFFSETTO:-0400
TZNAME:EDT
DTSTART:20210314T070000
END:DAYLIGHT
BEGIN:STANDARD
TZOFFSETFROM:-0400
TZOFFSETTO:-0500
TZNAME:EST
DTSTART:20211107T060000
END:STANDARD
BEGIN:DAYLIGHT
TZOFFSETFROM:-0500
TZOFFSETTO:-0400
TZNAME:EDT
DTSTART:20220313T070000
END:DAYLIGHT
BEGIN:STANDARD
TZOFFSETFROM:-0400
TZOFFSETTO:-0500
TZNAME:EST
DTSTART:20221106T060000
END:STANDARD
BEGIN:DAYLIGHT
TZOFFSETFROM:-0500
TZOFFSETTO:-0400
TZNAME:EDT
DTSTART:20230312T070000
END:DAYLIGHT
BEGIN:STANDARD
TZOFFSETFROM:-0400
TZOFFSETTO:-0500
TZNAME:EST
DTSTART:20231105T060000
END:STANDARD
END:VTIMEZONE
BEGIN:VEVENT
DTSTART;TZID=America/New_York:20221105T190000
DTEND;TZID=America/New_York:20221105T210000
DTSTAMP:20260423T155238
CREATED:20230220T003855Z
LAST-MODIFIED:20230220T003855Z
UID:199-1667674800-1667682000@edwardbreitweiser.com
SUMMARY:Yea Big\, James Mauck\, Briar Darling\, Edward Breitweiser: Solo & Quartet @ The Rec Club
DESCRIPTION:
URL:https://edwardbreitweiser.com/event/yea-big-james-mauck-briar-darling-edward-breitweiser-solo-quartet-the-rec-club/
LOCATION:The Recreation Club\, 117 N. Market St.\, Urbana\, IL\, 61820\, United States
END:VEVENT
BEGIN:VEVENT
DTSTART;TZID=America/New_York:20220827T190000
DTEND;TZID=America/New_York:20220827T210000
DTSTAMP:20260423T155238
CREATED:20230220T004219Z
LAST-MODIFIED:20230220T004219Z
UID:203-1661626800-1661634000@edwardbreitweiser.com
SUMMARY:Tatsu Aoki\, Yea Big\, Matthew Smith\, and Edward Breitweiser @ Cometogetherspace
DESCRIPTION:
URL:https://edwardbreitweiser.com/event/tatsu-aoki-yea-big-matthew-smith-and-edward-breitweiser-cometogetherspace/
LOCATION:Cometogetherspace\, 212 N Roosevelt Ave\, Bloomington\, IL\, 61701\, United States
END:VEVENT
BEGIN:VEVENT
DTSTART;TZID=America/New_York:20220807T193000
DTEND;TZID=America/New_York:20220807T210000
DTSTAMP:20260423T155238
CREATED:20230220T004717Z
LAST-MODIFIED:20230220T004717Z
UID:206-1659900600-1659906000@edwardbreitweiser.com
SUMMARY:Loose & Big Bright Karl @ nightshop
DESCRIPTION:
URL:https://edwardbreitweiser.com/event/loose-big-bright-karl-nightshop/
LOCATION:nightshop\, 517 N. Main St.\, Bloomington\, IL\, 61701\, United States
END:VEVENT
BEGIN:VEVENT
DTSTART;TZID=America/New_York:20220624T190000
DTEND;TZID=America/New_York:20220624T210000
DTSTAMP:20260423T155238
CREATED:20230220T002805Z
LAST-MODIFIED:20230220T002805Z
UID:191-1656097200-1656104400@edwardbreitweiser.com
SUMMARY:NON:op + pt.fwd present "Six Words" (world premier)
DESCRIPTION:On Friday\, June 24 at 7:00 p.m.\, NON:op Open Opera Works\, pt.fwd\, and the McLean County Museum of History are pleased to co-host the premier performance Six Words\, a newly-commissioned musical work by Edward Breitweiser. The event will be presented at the Museum\, and is free and open to the public. \nUsing archival research\, community dialogue\, and collaborative music-making\, Six Words will engage directly with Central Illinois residents to reflect on our collective experience of the COVID-19 pandemic. Six Words will take the McLean County Museum of History’s COVID-19: The McLean County Experience as a starting point to ask local residents about their pandemic experiences\, and to preserve them for future generations. \nBreitweiser will collaborate with local non-profits and youth organizations—including the McLean county Museum of History and pt.fwd—to create a communal space for telling and hearing the impact of the COVID-19 pandemic in the Bloomington-Normal area. These diverse experiences will be shared in a concert-length public performance at the Museum of History\, featuring music and words by area residents who contributed to the project.
URL:https://edwardbreitweiser.com/event/nonop-pt-fwd-present-six-words-world-premier/
LOCATION:McLean County Museum of History\, 200 N. East St.\, Bloomington\, IL\, 61701\, United States
END:VEVENT
BEGIN:VEVENT
DTSTART;TZID=America/New_York:20220513T080000
DTEND;TZID=America/New_York:20220513T170000
DTSTAMP:20260423T155238
CREATED:20230220T002347Z
LAST-MODIFIED:20230220T003327Z
UID:188-1652428800-1652461200@edwardbreitweiser.com
SUMMARY:pt.fwd presents NCHS Experimental Ensemble ft. Edward Breitweiser
DESCRIPTION:On Friday\, May 13 at 7:00 p.m.\, pt.fwd and the McLean County Museum of History are pleased to co-host the debut performance of Bloomington-Normal’s most exciting new music group\, the Normal Community High School Experimental Ensemble\, with special guest Edward Breitweiser. The event will be presented in the Museum’s first floor rotunda\, and is free and open to the public. \nThe Ensemble is lead by Stefen Robinson and Zachary Sargent\, both teachers at NCHS who also perform with the group. Eleven students make up the group\, and together with their teachers\, they “make adventurous music….” Student members include Matthew Beigie on cello\, Cooper Jeb on piano\, Lilly McClelland on bass guitar and trumpet\, Ibrahim Muftee on electric guitar\, John Nguyen on electric mandolin\, Stefani Nguyen on bells and harmonium\, Ram Paramatmuni on radio and record player\, Audrie Schuller on violin\, and Krishiv Sreejith on flute. Robinson performs on bass clarinet and percussion\, and Sargent plays alto saxophone. \nSelections for the performance will include Otomo Yoshihide’s arrangement of Eric Dolphy’s “Serene”\, and their own arrangement of “Early Grave” by The Contortionist. The program will conclude with their arrangement of Curtis Mayfield’s “Think”. In between those songs\, improvisations by smaller groups within the larger ensemble will be featured. \nIllinois-based artist\, musician\, and writer Edward Breitweiser will be joining the Ensemble as a guest artist\, performing on synthesizer and electronics.
URL:https://edwardbreitweiser.com/event/pt-fwd-presents-nchs-experimental-ensemble-ft-edward-breitweiser/
LOCATION:McLean County Museum of History\, 200 N. East St.\, Bloomington\, IL\, 61701\, United States
END:VEVENT
BEGIN:VEVENT
DTSTART;TZID=America/New_York:20210925T190000
DTEND;TZID=America/New_York:20210925T203000
DTSTAMP:20260423T155238
CREATED:20230220T005231Z
LAST-MODIFIED:20230220T005231Z
UID:210-1632596400-1632601800@edwardbreitweiser.com
SUMMARY:Yea Big + Edward Breitweiser @ Cometogetherspace
DESCRIPTION:
URL:https://edwardbreitweiser.com/event/yea-big-edward-breitweiser-cometogetherspace/
LOCATION:Cometogetherspace\, 212 N Roosevelt Ave\, Bloomington\, IL\, 61701\, United States
END:VEVENT
END:VCALENDAR