BEGIN:VCALENDAR
VERSION:2.0
PRODID:-//EWB - ECPv6.15.20//NONSGML v1.0//EN
CALSCALE:GREGORIAN
METHOD:PUBLISH
X-WR-CALNAME:EWB
X-ORIGINAL-URL:https://edwardbreitweiser.com
X-WR-CALDESC:Events for EWB
REFRESH-INTERVAL;VALUE=DURATION:PT1H
X-Robots-Tag:noindex
X-PUBLISHED-TTL:PT1H
BEGIN:VTIMEZONE
TZID:America/New_York
BEGIN:DAYLIGHT
TZOFFSETFROM:-0500
TZOFFSETTO:-0400
TZNAME:EDT
DTSTART:20250309T070000
END:DAYLIGHT
BEGIN:STANDARD
TZOFFSETFROM:-0400
TZOFFSETTO:-0500
TZNAME:EST
DTSTART:20251102T060000
END:STANDARD
BEGIN:DAYLIGHT
TZOFFSETFROM:-0500
TZOFFSETTO:-0400
TZNAME:EDT
DTSTART:20260308T070000
END:DAYLIGHT
BEGIN:STANDARD
TZOFFSETFROM:-0400
TZOFFSETTO:-0500
TZNAME:EST
DTSTART:20261101T060000
END:STANDARD
BEGIN:DAYLIGHT
TZOFFSETFROM:-0500
TZOFFSETTO:-0400
TZNAME:EDT
DTSTART:20270314T070000
END:DAYLIGHT
BEGIN:STANDARD
TZOFFSETFROM:-0400
TZOFFSETTO:-0500
TZNAME:EST
DTSTART:20271107T060000
END:STANDARD
END:VTIMEZONE
BEGIN:VEVENT
DTSTART;TZID=America/New_York:20260328T130000
DTEND;TZID=America/New_York:20260328T220000
DTSTAMP:20260423T130354
CREATED:20260325T184858Z
LAST-MODIFIED:20260325T184858Z
UID:367-1774702800-1774735200@edwardbreitweiser.com
SUMMARY:No Below Editions presents PHLEGMPHEST
DESCRIPTION:Phlegm Phest is back! Our first attempt was snowed out. This time it is all happening.\n\nWe’re celebrating the No Below Editions compilation of radical local artists\, Creme de la Phlegm! And we’re doing it at Meltdown!!!\n\nHere’s the lineup:\nRebekah ManglesCreatian/HeapMMDRNotteAnonymous PiperlighttJohn GanserTommy O’DonnellSecret AmuletNolanSweet Nothings\n!!!\n\nDoors at 12:30\, music starts at 1:00 sharp.\n$10 (kids 10 and under are free)\n\nALL AGES\n\nJOIN US!!! (We love you)
URL:https://edwardbreitweiser.com/event/no-below-editions-presents-phlegmphest/
LOCATION:Meltdown Creative Works\, 716 E. Empire\, Bloomington\, IL\, 61701\, United States
END:VEVENT
END:VCALENDAR